BEGIN:VCALENDAR
VERSION:2.0
PRODID:-//Biblioteca Astense Asti - ECPv5.8.0//NONSGML v1.0//EN
CALSCALE:GREGORIAN
METHOD:PUBLISH
X-WR-CALNAME:Biblioteca Astense Asti
X-ORIGINAL-URL:https://bibliotecastense.it
X-WR-CALDESC:Eventi per Biblioteca Astense Asti
BEGIN:VTIMEZONE
TZID:UTC
BEGIN:STANDARD
TZOFFSETFROM:+0000
TZOFFSETTO:+0000
TZNAME:UTC
DTSTART:20220101T000000
END:STANDARD
END:VTIMEZONE
BEGIN:VEVENT
DTSTART;TZID=UTC:20220409T103000
DTEND;TZID=UTC:20220409T233000
DTSTAMP:20260421T120115
CREATED:20220329T164146Z
LAST-MODIFIED:20220329T165746Z
UID:19674-1649500200-1649547000@bibliotecastense.it
SUMMARY:Semini-amo insieme... Biblioteca civica di Villanova
DESCRIPTION:Semini- amo insieme… \nLetture per tutte le età alla BIBLIOTECA COMUNALE di Villanova d’Asti \nCondividi questa pagina su
URL:https://bibliotecastense.it/evento/19674/
LOCATION:Villanova d’Asti – Biblioteca Civica\, Villanova d'Asti\, Asti\, 14019\, Italia
CATEGORIES:Bibliobimbi,Letture,Iniziative per bambini,Iniziative per ragazzi
END:VEVENT
END:VCALENDAR