BEGIN:VCALENDAR
VERSION:2.0
PRODID:-//Biblioteca Astense Asti - ECPv5.8.0//NONSGML v1.0//EN
CALSCALE:GREGORIAN
METHOD:PUBLISH
X-WR-CALNAME:Biblioteca Astense Asti
X-ORIGINAL-URL:https://bibliotecastense.it
X-WR-CALDESC:Eventi per Biblioteca Astense Asti
BEGIN:VTIMEZONE
TZID:UTC
BEGIN:STANDARD
TZOFFSETFROM:+0000
TZOFFSETTO:+0000
TZNAME:UTC
DTSTART:20250101T000000
END:STANDARD
END:VTIMEZONE
BEGIN:VEVENT
DTSTART;TZID=UTC:20250410T173000
DTEND;TZID=UTC:20250410T183000
DTSTAMP:20260419T151925
CREATED:20250331T080904Z
LAST-MODIFIED:20250331T081012Z
UID:23555-1744306200-1744309800@bibliotecastense.it
SUMMARY:LETTURE CON LA CODA - ASTI
DESCRIPTION:  \nGIOVEDI’ 10 APRILE alle ore 17\,30: LETTURE CON LA CODA. Letture assistite con i CONIGLIETTI per bambini dai 2 ai 7 anni.\nCosto: 15 € (prenotazione obbligatoria fino ad esaurimento posti).\nPer iscriversi: telefonare in Libreria allo 0141 556270 oppure scrivere ad alberidacqua@libero.it\n\nLeggeremo insieme un albo illustrato circondati dai nostri amici con la codina corta e le orecchie lunghe\, le nostre simpaticissime conigliette Tippete e Tappete\, abilitate per la pet therapy.\nMa ci sarà una novità: conosceremo una terza coniglietta appena entrata in famiglia\, Mirtilla.\nSeguirà un laboratorio in tema primaverile dall’albo “Ollie e il Coniglietto magico” con attività pratica di cura\, relazione e contatto con gli animali.\nIl tema sarà l’amicizia\, il coraggio e la sensibilizzazione alla natura e agli animali.\n\nL’attività è a cura di Gaia Stecca\, operatore nelle IAA (interventi assistiti con gli animali) e zooantropologia didattica.\n\nEvento organizzato in collaborazione con Asintrekking asd\, che ha la sua sede a Quarto Inferiore\, in Località Antica Dogana\, 2/D.\n\nCondividi questa pagina su
URL:https://bibliotecastense.it/evento/23555/
LOCATION:Libreria Alberi d’Acqua\, Via Rossini\, 1\, Asti\, AT\, 14100\, Italia
CATEGORIES:Bibliobimbi,Letture,Eventi Biblioteche Sistema Astigiano,Iniziative per bambini
ORGANIZER;CN="Libreria%20Alberi%20d%27Acqua":MAILTO:alberidacqua@libero.it
END:VEVENT
END:VCALENDAR