BEGIN:VCALENDAR
VERSION:2.0
PRODID:-//Biblioteca Astense Asti - ECPv5.8.0//NONSGML v1.0//EN
CALSCALE:GREGORIAN
METHOD:PUBLISH
X-WR-CALNAME:Biblioteca Astense Asti
X-ORIGINAL-URL:https://bibliotecastense.it
X-WR-CALDESC:Eventi per Biblioteca Astense Asti
BEGIN:VTIMEZONE
TZID:UTC
BEGIN:STANDARD
TZOFFSETFROM:+0000
TZOFFSETTO:+0000
TZNAME:UTC
DTSTART:20250101T000000
END:STANDARD
END:VTIMEZONE
BEGIN:VEVENT
DTSTART;TZID=UTC:20250524T103000
DTEND;TZID=UTC:20250524T120000
DTSTAMP:20260420T084404
CREATED:20250514T121800Z
LAST-MODIFIED:20250514T121800Z
UID:23717-1748082600-1748088000@bibliotecastense.it
SUMMARY:AL PARCO - SAN DAMIANO
DESCRIPTION:Vi aspettiamo con due eventi di letture ad alta voce presso i giardini di Via Pero – San Damiano!\nAl termine dell’evento ci sposteremo in biblioteca per un piccolo rinfresco e per scegliere un libro a prestito per l’estate.\nEvento libero\nCondividi questa pagina su
URL:https://bibliotecastense.it/evento/al-parco-san-damiano/2025-05-24/
LOCATION:San Damiano d’Asti – Biblioteca civica “G. Nosengo”\, Biblioteca civica Nosengo\, San Damiano d'Asti\, 14015\, Italia
CATEGORIES:Festa,Bibliobimbi,Letture,Eventi Biblioteche Sistema Astigiano,Iniziative per bambini
END:VEVENT
END:VCALENDAR