BEGIN:VCALENDAR
VERSION:2.0
PRODID:-//Biblioteca Astense Asti - ECPv5.8.0//NONSGML v1.0//EN
CALSCALE:GREGORIAN
METHOD:PUBLISH
X-WR-CALNAME:Biblioteca Astense Asti
X-ORIGINAL-URL:https://bibliotecastense.it
X-WR-CALDESC:Eventi per Biblioteca Astense Asti
BEGIN:VTIMEZONE
TZID:UTC
BEGIN:STANDARD
TZOFFSETFROM:+0000
TZOFFSETTO:+0000
TZNAME:UTC
DTSTART:20250101T000000
END:STANDARD
END:VTIMEZONE
BEGIN:VEVENT
DTSTART;TZID=UTC:20250607T163000
DTEND;TZID=UTC:20250607T173000
DTSTAMP:20260419T133031
CREATED:20250531T143219Z
LAST-MODIFIED:20250531T143219Z
UID:23749-1749313800-1749317400@bibliotecastense.it
SUMMARY:Alla scoperta della musica - CANELLI
DESCRIPTION:Siete tutti invitati ad un insolito e sorprendente spettacolo in musica per bambini di tutte le età!\nSABATO 7 GIUGNO ORE 16\,30\nINGRESSO LIBERO\nCondividi questa pagina su
URL:https://bibliotecastense.it/evento/alla-scoperta-della-musica-canelli/
LOCATION:Biblioteca civica di Canelli “G. Monticone”\, via G.B. Giuliani\, 29\, Canelli\, 14053\, Italia
CATEGORIES:Festa,Bibliobimbi,Letture,Iniziative per bambini,Iniziative per ragazzi,Biblioteca Civica Canelli
END:VEVENT
END:VCALENDAR