BEGIN:VCALENDAR
VERSION:2.0
PRODID:-//Biblioteca Astense Asti - ECPv5.8.0//NONSGML v1.0//EN
CALSCALE:GREGORIAN
METHOD:PUBLISH
X-WR-CALNAME:Biblioteca Astense Asti
X-ORIGINAL-URL:https://bibliotecastense.it
X-WR-CALDESC:Eventi per Biblioteca Astense Asti
BEGIN:VTIMEZONE
TZID:UTC
BEGIN:STANDARD
TZOFFSETFROM:+0000
TZOFFSETTO:+0000
TZNAME:UTC
DTSTART:20230101T000000
END:STANDARD
END:VTIMEZONE
BEGIN:VEVENT
DTSTART;TZID=UTC:20230324T173000
DTEND;TZID=UTC:20230324T183000
DTSTAMP:20260419T160749
CREATED:20230307T142700Z
LAST-MODIFIED:20230307T142700Z
UID:21052-1679679000-1679682600@bibliotecastense.it
SUMMARY:Approfondimento NPL per famiglie - Villanova d'Asti
DESCRIPTION:Un incontro dedicato a tutti i genitori in zona\, per scoprire insieme i vantaggi e la magia della lettura fin dalla prima infanzia. Scopriremo meravigliosi libri\, cartonati e albi illustrati. Non mancate!\nCondividi questa pagina su
URL:https://bibliotecastense.it/evento/approfondimento-npl-per-famiglie-villanova-dasti/
LOCATION:Villanova d’Asti – Biblioteca Civica\, Villanova d'Asti\, Asti\, 14019\, Italia
CATEGORIES:Bibliobimbi,Letture,Eventi Biblioteche Sistema Astigiano,Iniziative per bambini
END:VEVENT
END:VCALENDAR