BEGIN:VCALENDAR
VERSION:2.0
PRODID:-//Biblioteca Astense Asti - ECPv5.8.0//NONSGML v1.0//EN
CALSCALE:GREGORIAN
METHOD:PUBLISH
X-WR-CALNAME:Biblioteca Astense Asti
X-ORIGINAL-URL:https://bibliotecastense.it
X-WR-CALDESC:Eventi per Biblioteca Astense Asti
BEGIN:VTIMEZONE
TZID:UTC
BEGIN:STANDARD
TZOFFSETFROM:+0000
TZOFFSETTO:+0000
TZNAME:UTC
DTSTART:20240101T000000
END:STANDARD
END:VTIMEZONE
BEGIN:VEVENT
DTSTART;TZID=UTC:20241214T103000
DTEND;TZID=UTC:20241214T120000
DTSTAMP:20260419T200033
CREATED:20241212T151818Z
LAST-MODIFIED:20241214T145844Z
UID:23118-1734172200-1734177600@bibliotecastense.it
SUMMARY:Eventi di Natale - Villanova D'Asti
DESCRIPTION:Non perdetevi gli appuntamenti natalizi della biblioteca di Villanova!!\nSabato 14 dalle 10\,30 laboratorio gratuito- prenotazione obbligatoria\ne domenica 15  alle 11 e alle 15\, due momenti di letture delle Dadine\, le volontarie di Nati per leggere della Biblioteca di Villanova!\nBuon Nataleeeeeeeee!!!!!!!\nCondividi questa pagina su
URL:https://bibliotecastense.it/evento/eventi-di-natale-villanova-dasti/2024-12-14/
LOCATION:Villanova d’Asti – ex confraternita dell’Annunziata\, Chiesa dei Batù\, Villanova d'Asti\, Asti\, 14019\, Italia
CATEGORIES:Festa,Bibliobimbi,Letture,Eventi Biblioteche Sistema Astigiano,Iniziative per bambini,Iniziative per ragazzi
END:VEVENT
END:VCALENDAR