BEGIN:VCALENDAR
VERSION:2.0
PRODID:-//Biblioteca Astense Asti - ECPv5.8.0//NONSGML v1.0//EN
CALSCALE:GREGORIAN
METHOD:PUBLISH
X-WR-CALNAME:Biblioteca Astense Asti
X-ORIGINAL-URL:https://bibliotecastense.it
X-WR-CALDESC:Eventi per Biblioteca Astense Asti
BEGIN:VTIMEZONE
TZID:UTC
BEGIN:STANDARD
TZOFFSETFROM:+0000
TZOFFSETTO:+0000
TZNAME:UTC
DTSTART:20260101T000000
END:STANDARD
END:VTIMEZONE
BEGIN:VEVENT
DTSTART;TZID=UTC:20260221T103000
DTEND;TZID=UTC:20260221T113000
DTSTAMP:20260419T194116
CREATED:20260128T134952Z
LAST-MODIFIED:20260128T135155Z
UID:24398-1771669800-1771673400@bibliotecastense.it
SUMMARY:"Facciamo finta che..." CARNEVALE con le Dadine - VILLANOVA
DESCRIPTION:  \nIl Carnevale non è solo una festa fatta di maschere\, colori e rumore: è anche un’occasione simbolica per mettersi nei panni degli altri\, il travestimento diventa interiore ed emotivo.\nCapire l’altro\, sentire ciò che sente\, è il travestimento più profondo che possiamo fare.\nCondividi questa pagina su
URL:https://bibliotecastense.it/evento/facciamo-finta-che-carnevale-con-le-dadine-villanova/
LOCATION:Villanova d’Asti – Biblioteca Civica\, Villanova d'Asti\, Asti\, 14019\, Italia
CATEGORIES:Festa,Bibliobimbi,Letture,Eventi Biblioteche Sistema Astigiano,Iniziative per bambini
END:VEVENT
END:VCALENDAR