BEGIN:VCALENDAR
VERSION:2.0
PRODID:-//Biblioteca Astense Asti - ECPv5.8.0//NONSGML v1.0//EN
CALSCALE:GREGORIAN
METHOD:PUBLISH
X-WR-CALNAME:Biblioteca Astense Asti
X-ORIGINAL-URL:https://bibliotecastense.it
X-WR-CALDESC:Eventi per Biblioteca Astense Asti
BEGIN:VTIMEZONE
TZID:UTC
BEGIN:STANDARD
TZOFFSETFROM:+0000
TZOFFSETTO:+0000
TZNAME:UTC
DTSTART:20240101T000000
END:STANDARD
END:VTIMEZONE
BEGIN:VEVENT
DTSTART;TZID=UTC:20240301T170000
DTEND;TZID=UTC:20240301T183000
DTSTAMP:20260419T200806
CREATED:20240220T152602Z
LAST-MODIFIED:20240220T152602Z
UID:22220-1709312400-1709317800@bibliotecastense.it
SUMMARY:GERMINANDO. LETTURE CON GLI ANIMALI - Alberi d'acqua - Asti - Su prenotazione
DESCRIPTION:VENERDI’ 1 MARZO dalle  17\,00 alle 18\,30 in Libreria con GERMINANDO. LETTURE CON GLI ANIMALI.\nL’evento è dedicato a tutti i bambini dai 2 ai 6 anni.\nOrganizzato da Libreria Alberi d’Acqua in collaborazione con Asintrekking asd.\nProgramma:\nLeggeremo insieme un albo illustrato scelto dalla Pedagogista Sonia Florio (qualificata nelle IAA) con un tema\, il tutto circondato dai pazienti e simpaticissimi collaboratori a 4 zampe\, i cagnolini meticci Red e Ice gestiti dalla loro padrona e coadiutrice nelle IAA Gaia Stecca.\nSeguirà un laboratorio ludico sul tema della storia sempre in compagnia dei nostri amici a 4 zampe.\nCosto: 15 € (prenotazione obbligatoria fino ad esaurimento posti).\nPer info e prenotazioni: Libreria Alberi d’Acqua (0141 556270 oppure alberidacqua@libero.it)\nCondividi questa pagina su
URL:https://bibliotecastense.it/evento/germinando-letture-con-gli-animali-alberi-dacqua-asti-su-prenotazione/
LOCATION:Libreria Alberi d’Acqua\, Via Rossini\, 1\, Asti\, AT\, 14100\, Italia
CATEGORIES:Festa,Bibliobimbi,Letture,Eventi Biblioteche Sistema Astigiano,Iniziative per bambini,Iniziative per ragazzi
ORGANIZER;CN="Libreria%20Alberi%20d%27Acqua":MAILTO:alberidacqua@libero.it
END:VEVENT
END:VCALENDAR