BEGIN:VCALENDAR
VERSION:2.0
PRODID:-//Biblioteca Astense Asti - ECPv5.8.0//NONSGML v1.0//EN
CALSCALE:GREGORIAN
METHOD:PUBLISH
X-WR-CALNAME:Biblioteca Astense Asti
X-ORIGINAL-URL:https://bibliotecastense.it
X-WR-CALDESC:Eventi per Biblioteca Astense Asti
BEGIN:VTIMEZONE
TZID:UTC
BEGIN:STANDARD
TZOFFSETFROM:+0000
TZOFFSETTO:+0000
TZNAME:UTC
DTSTART:20240101T000000
END:STANDARD
END:VTIMEZONE
BEGIN:VEVENT
DTSTART;TZID=UTC:20240516T143000
DTEND;TZID=UTC:20240516T180000
DTSTAMP:20260419T173035
CREATED:20240430T172646Z
LAST-MODIFIED:20240430T172646Z
UID:22442-1715869800-1715882400@bibliotecastense.it
SUMMARY:Giochi senza quartiere - Asti
DESCRIPTION:Un pomeriggio ricco di attività per tutte le bambine e i bambini della città! Non perdetevi le aree dedicate alla lettura\, allo sport\, alla natura e a fantastici giochi antichi tutti da riscoprire!\nCondividi questa pagina su
URL:https://bibliotecastense.it/evento/giochi-senza-quartiere-asti/
LOCATION:Area verde di Via Monti\, Via Monti\, 38\, Asti\, AT\, 14100\, Italia
CATEGORIES:Festa,Bibliobimbi,Letture,Iniziative per bambini,Iniziative per ragazzi
END:VEVENT
END:VCALENDAR