BEGIN:VCALENDAR
VERSION:2.0
PRODID:-//Biblioteca Astense Asti - ECPv5.8.0//NONSGML v1.0//EN
CALSCALE:GREGORIAN
METHOD:PUBLISH
X-WR-CALNAME:Biblioteca Astense Asti
X-ORIGINAL-URL:https://bibliotecastense.it
X-WR-CALDESC:Eventi per Biblioteca Astense Asti
BEGIN:VTIMEZONE
TZID:UTC
BEGIN:STANDARD
TZOFFSETFROM:+0000
TZOFFSETTO:+0000
TZNAME:UTC
DTSTART:20240101T000000
END:STANDARD
END:VTIMEZONE
BEGIN:VEVENT
DTSTART;TZID=UTC:20241123T103000
DTEND;TZID=UTC:20241123T113000
DTSTAMP:20260419T214701
CREATED:20241101T083743Z
LAST-MODIFIED:20241104T192217Z
UID:22983-1732357800-1732361400@bibliotecastense.it
SUMMARY:Giornata dei diritti dei bambini 23 Novembre - Asti
DESCRIPTION:In occasione della giornata internazionale dei diritti dei bambine e dei bambini\nSABATO 23 NOVEMBRE 2024 alle ore 10\,30 festeggiamo con alcune bellissime letture ad alta voce dedicate alla fascia 3-8 anni\nVi aspettiamo numerosi\, per una mattinata ricca di fantasia\nEVENTO GRATUITO!\nNon è necessario pre-iscriversi.\nCondividi questa pagina su
URL:https://bibliotecastense.it/evento/giornata-dei-diritti-dei-bambini-23-novembre-asti/
LOCATION:Bibliobimbi e ragazzi\, via Carducci 64\, Asti\, Asti\, 14100\, Italia
CATEGORIES:Festa,Bibliobimbi,Letture,Eventi Biblioteche Sistema Astigiano,Iniziative per bambini,Iniziative per ragazzi
END:VEVENT
END:VCALENDAR