BEGIN:VCALENDAR
VERSION:2.0
PRODID:-//Biblioteca Astense Asti - ECPv5.8.0//NONSGML v1.0//EN
CALSCALE:GREGORIAN
METHOD:PUBLISH
X-WR-CALNAME:Biblioteca Astense Asti
X-ORIGINAL-URL:https://bibliotecastense.it
X-WR-CALDESC:Eventi per Biblioteca Astense Asti
BEGIN:VTIMEZONE
TZID:UTC
BEGIN:STANDARD
TZOFFSETFROM:+0000
TZOFFSETTO:+0000
TZNAME:UTC
DTSTART:20240101T000000
END:STANDARD
END:VTIMEZONE
BEGIN:VEVENT
DTSTART;TZID=UTC:20241031T150000
DTEND;TZID=UTC:20241031T180000
DTSTAMP:20260421T083724
CREATED:20241021T074415Z
LAST-MODIFIED:20241021T074415Z
UID:22919-1730386800-1730397600@bibliotecastense.it
SUMMARY:Happy Holy-win - Halloween - Isola d'Asti
DESCRIPTION:Questa volta la biblioteca organizza un pomeriggio di dolcetti\, paura e storie insieme ad un’associazione del nostro paese che si occupa di attività per bambini. Vi aspettiamo numerosi con la passeggiata alle 15 e le letture alle 17!\nCondividi questa pagina su
URL:https://bibliotecastense.it/evento/happy-holy-win-halloween-isola-dasti/
LOCATION:Isola d’Asti – Biblioteca comunale\, Via Cavalier G. Fogliotti\, 28\, Isola d'Asti\, Asti\, 14057\, Italia
CATEGORIES:Festa,Bibliobimbi,Letture,Eventi Biblioteche Sistema Astigiano,Iniziative per bambini,Iniziative per ragazzi,Biblioteca Comunale di Isola d'Asti
END:VEVENT
END:VCALENDAR