BEGIN:VCALENDAR
VERSION:2.0
PRODID:-//Biblioteca Astense Asti - ECPv5.8.0//NONSGML v1.0//EN
CALSCALE:GREGORIAN
METHOD:PUBLISH
X-WR-CALNAME:Biblioteca Astense Asti
X-ORIGINAL-URL:https://bibliotecastense.it
X-WR-CALDESC:Eventi per Biblioteca Astense Asti
BEGIN:VTIMEZONE
TZID:UTC
BEGIN:STANDARD
TZOFFSETFROM:+0000
TZOFFSETTO:+0000
TZNAME:UTC
DTSTART:20240101T000000
END:STANDARD
END:VTIMEZONE
BEGIN:VEVENT
DTSTART;TZID=UTC:20241123T170000
DTEND;TZID=UTC:20241123T183000
DTSTAMP:20260419T152817
CREATED:20241024T135345Z
LAST-MODIFIED:20241025T111631Z
UID:22957-1732381200-1732386600@bibliotecastense.it
SUMMARY:Il desiderio di Scoiattolo lettura e laboratorio di Natale - ASTI
DESCRIPTION:  \nNOVITÀ EDITORIALE STRENNE NATALIZIE 2024\n“Il desiderio di Scoiattolo”\nLETTURA E LABORATORIO CON L’AUTRICE\nSABATO 23 NOVEMBRE ORE 17\nPER BAMBINI E BAMBINE DAI 4 ANNI\n\nEVENTO GRATUITO – POSTI LIMITATI – ISCRIZIONE OBBLIGATORIA CON QR CODE O LINK\nPer iscriverti clicca sulla locandina PDF qui (o inquadra il qr code): ==> Scoiattolo locandina pdf 23 novembre\nCondividi questa pagina su
URL:https://bibliotecastense.it/evento/il-desiderio-di-scoiattolo-lettura-e-laboratorio-di-natale-asti/
LOCATION:Bibliobimbi e ragazzi\, via Carducci 64\, Asti\, Asti\, 14100\, Italia
CATEGORIES:Presentazione libro,Festa,Bibliobimbi,Letture,Eventi Biblioteche Sistema Astigiano,Iniziative per bambini,Iniziative per ragazzi
END:VEVENT
END:VCALENDAR