BEGIN:VCALENDAR
VERSION:2.0
PRODID:-//Biblioteca Astense Asti - ECPv5.8.0//NONSGML v1.0//EN
CALSCALE:GREGORIAN
METHOD:PUBLISH
X-WR-CALNAME:Biblioteca Astense Asti
X-ORIGINAL-URL:https://bibliotecastense.it
X-WR-CALDESC:Eventi per Biblioteca Astense Asti
BEGIN:VTIMEZONE
TZID:UTC
BEGIN:STANDARD
TZOFFSETFROM:+0000
TZOFFSETTO:+0000
TZNAME:UTC
DTSTART:20250101T000000
END:STANDARD
END:VTIMEZONE
BEGIN:VEVENT
DTSTART;TZID=UTC:20250517T103000
DTEND;TZID=UTC:20250517T233000
DTSTAMP:20260419T152138
CREATED:20250409T130422Z
LAST-MODIFIED:20250424T150426Z
UID:23599-1747477800-1747524600@bibliotecastense.it
SUMMARY:Intelleg(g)o...al Giardino dei Giusti - NIZZA MONFERRATO
DESCRIPTION:Intelleg(g)o…al Giardino dei Giusti di Nizza Monferrato \nnuova data! \nSABATO 17 MAGGIO  dalle ore 10:30-11:30 i volontari Nati per Leggere della Biblioteca Civica Umberto Eco\, vi aspettano al Giardino dei Giusti per farvi ascoltare tante fantastiche storie. Questo progetto di lettura all’aperto\, fa parte della campagna nazionale il “Maggio dei Libri”. \nAdatto a: bambini 3-9 anni.\nLuogo: Via Don Celi\, 14049 – Nizza Monferrato >> maps https://maps.app.goo.gl/LqHsCHWbr1Q9iXgN9 \nMaggiori informazioni sulla locandina. \nNota: In caso di maltempo l’evento potrebbe essere rimandato a data da destinarsi. \n\nCondividi questa pagina su
URL:https://bibliotecastense.it/evento/intelleggo-al-giardino-dei-giusti-nizza-monferrato/
LOCATION:il Giardino dei Giusti\, Via Don Celi\, Nizza monferrato\, italia\, 14049
CATEGORIES:Festa,Bibliobimbi,Letture,Eventi Biblioteche Sistema Astigiano,Iniziative per bambini,Iniziative per ragazzi,Biblioteca civica Umberto Eco – Nizza Monferrato
END:VEVENT
END:VCALENDAR