BEGIN:VCALENDAR
VERSION:2.0
PRODID:-//Biblioteca Astense Asti - ECPv5.8.0//NONSGML v1.0//EN
CALSCALE:GREGORIAN
METHOD:PUBLISH
X-WR-CALNAME:Biblioteca Astense Asti
X-ORIGINAL-URL:https://bibliotecastense.it
X-WR-CALDESC:Eventi per Biblioteca Astense Asti
BEGIN:VTIMEZONE
TZID:UTC
BEGIN:STANDARD
TZOFFSETFROM:+0000
TZOFFSETTO:+0000
TZNAME:UTC
DTSTART:20250101T000000
END:STANDARD
END:VTIMEZONE
BEGIN:VEVENT
DTSTART;TZID=UTC:20250511T170000
DTEND;TZID=UTC:20250511T183000
DTSTAMP:20260421T083507
CREATED:20250408T145106Z
LAST-MODIFIED:20250408T145106Z
UID:23596-1746982800-1746988200@bibliotecastense.it
SUMMARY:Io\, tu e le rose - letture\, laboratorio e mostra REFRANCORE
DESCRIPTION:  \nVi aspettiamo numerosi a questo originalissimo evento!\nIO\, TU E LE ROSE: letture ad alta voce sul risveglio primaverile\, visita alla mostra “Gocce di luce in Monferrato” allestita in Biblioteca dell’esperta di giardini Elena Maggiora\, laboratorio creativo e merenda!\nEvento gratuito.\nCondividi questa pagina su
URL:https://bibliotecastense.it/evento/io-tu-e-le-rose-letture-laboratorio-e-mostra-refrancore/
LOCATION:Biblioteca M. Quaglino – Refrancore\, Via Cavour 10\, Refrancore\, AT\, 14030\, Italia
CATEGORIES:Bibliobimbi,Letture,Eventi Biblioteche Sistema Astigiano,Iniziative per bambini,Iniziative per ragazzi,Mostra,Biblioteca Massimo Quaglino di Refrancore
END:VEVENT
END:VCALENDAR