BEGIN:VCALENDAR
VERSION:2.0
PRODID:-//Biblioteca Astense Asti - ECPv5.8.0//NONSGML v1.0//EN
CALSCALE:GREGORIAN
METHOD:PUBLISH
X-WR-CALNAME:Biblioteca Astense Asti
X-ORIGINAL-URL:https://bibliotecastense.it
X-WR-CALDESC:Eventi per Biblioteca Astense Asti
BEGIN:VTIMEZONE
TZID:UTC
BEGIN:STANDARD
TZOFFSETFROM:+0000
TZOFFSETTO:+0000
TZNAME:UTC
DTSTART:20240101T000000
END:STANDARD
END:VTIMEZONE
BEGIN:VEVENT
DTSTART;TZID=UTC:20240302T093000
DTEND;TZID=UTC:20240302T093000
DTSTAMP:20260419T163947
CREATED:20240212T171353Z
LAST-MODIFIED:20240212T171353Z
UID:22197-1709371800-1709371800@bibliotecastense.it
SUMMARY:Kamishibai - Formazione per insegnanti - Canelli
DESCRIPTION:Formazione dedicata agli insegnati\, presso la biblioteca di Canelli. Per iscrizioni imc@aimcpiemonte.it\nCondividi questa pagina su
URL:https://bibliotecastense.it/evento/kamishibai-formazione-per-insegnanti-canelli/
LOCATION:Biblioteca civica di Canelli “G. Monticone”\, via G.B. Giuliani\, 29\, Canelli\, 14053\, Italia
CATEGORIES:Bibliobimbi,Eventi Biblioteche Sistema Astigiano,Calendario formazione adulti,Biblioteca Civica Canelli
END:VEVENT
END:VCALENDAR