BEGIN:VCALENDAR
VERSION:2.0
PRODID:-//Biblioteca Astense Asti - ECPv5.8.0//NONSGML v1.0//EN
CALSCALE:GREGORIAN
METHOD:PUBLISH
X-WR-CALNAME:Biblioteca Astense Asti
X-ORIGINAL-URL:https://bibliotecastense.it
X-WR-CALDESC:Eventi per Biblioteca Astense Asti
BEGIN:VTIMEZONE
TZID:UTC
BEGIN:STANDARD
TZOFFSETFROM:+0000
TZOFFSETTO:+0000
TZNAME:UTC
DTSTART:20210101T000000
END:STANDARD
END:VTIMEZONE
BEGIN:VEVENT
DTSTART;VALUE=DATE:20210619
DTEND;VALUE=DATE:20210620
DTSTAMP:20260419T152113
CREATED:20210715T121807Z
LAST-MODIFIED:20210715T122631Z
UID:17329-1624060800-1624147199@bibliotecastense.it
SUMMARY:La fantastica lezione
DESCRIPTION:[vc_row css_animation=”” row_type=”row” use_row_as_full_screen_section=”no” type=”full_width” angled_section=”no” text_align=”left” background_image_as_pattern=”without_pattern”][vc_column width=”1/4″][vc_single_image image=”17332″ img_size=”full” onclick=”link_image” qode_css_animation=””][/vc_column][vc_column width=”3/4″][vc_column_text]Iniziativa aperta a tutti. \nLibera-mente ispirata a Gianni Rodari. Con Antonio Argenio e i suoi burattini.\nIngresso libero con prenotazione obbligatoria telefonando al 3297775901 dopo le 13:30.[/vc_column_text][/vc_column][/vc_row] \nCondividi questa pagina su
URL:https://bibliotecastense.it/evento/la-fantastica-lezione/
LOCATION:Palazzo Giuliani\, Via Giovanni Battista Giuliani\, 29\, Canelli\, Asti\, 14053\, Italia
CATEGORIES:Bibliobimbi
END:VEVENT
END:VCALENDAR