BEGIN:VCALENDAR
VERSION:2.0
PRODID:-//Biblioteca Astense Asti - ECPv5.8.0//NONSGML v1.0//EN
CALSCALE:GREGORIAN
METHOD:PUBLISH
X-WR-CALNAME:Biblioteca Astense Asti
X-ORIGINAL-URL:https://bibliotecastense.it
X-WR-CALDESC:Eventi per Biblioteca Astense Asti
BEGIN:VTIMEZONE
TZID:UTC
BEGIN:STANDARD
TZOFFSETFROM:+0000
TZOFFSETTO:+0000
TZNAME:UTC
DTSTART:20240101T000000
END:STANDARD
END:VTIMEZONE
BEGIN:VEVENT
DTSTART;TZID=UTC:20240920T180000
DTEND;TZID=UTC:20240920T233000
DTSTAMP:20260419T131341
CREATED:20240918T155950Z
LAST-MODIFIED:20240918T155950Z
UID:22790-1726855200-1726875000@bibliotecastense.it
SUMMARY:La notte bianca della Biblioteca - Canelli
DESCRIPTION:Attività e letture per grandi e piccini!\nNon mancate per una grande festa e per ascoltare le meravigliose letture per i bambini 0-6 a cura delle volontarie Nati per leggere della biblioteca Monticone di Canelli!\n\nCondividi questa pagina su
URL:https://bibliotecastense.it/evento/la-notte-bianca-della-biblioteca-canelli/
CATEGORIES:Festa,Bibliobimbi,Letture,Iniziative per bambini,Iniziative per ragazzi,Biblioteca Civica Canelli
END:VEVENT
END:VCALENDAR