BEGIN:VCALENDAR
VERSION:2.0
PRODID:-//Biblioteca Astense Asti - ECPv5.8.0//NONSGML v1.0//EN
CALSCALE:GREGORIAN
METHOD:PUBLISH
X-WR-CALNAME:Biblioteca Astense Asti
X-ORIGINAL-URL:https://bibliotecastense.it
X-WR-CALDESC:Eventi per Biblioteca Astense Asti
BEGIN:VTIMEZONE
TZID:UTC
BEGIN:STANDARD
TZOFFSETFROM:+0000
TZOFFSETTO:+0000
TZNAME:UTC
DTSTART:20230101T000000
END:STANDARD
END:VTIMEZONE
BEGIN:VEVENT
DTSTART;TZID=UTC:20231027T173000
DTEND;TZID=UTC:20231027T183000
DTSTAMP:20260419T150552
CREATED:20231002T113503Z
LAST-MODIFIED:20231002T132027Z
UID:21710-1698427800-1698431400@bibliotecastense.it
SUMMARY:La notte dei Peluche - Canelli
DESCRIPTION:Cosa ci fa un peluche in biblbiboteca?\nBe’\, scopriamolo insieme! Il 27 Ottobre dalle 17:30 alle 18:30 porta il amico preferito a trascorrere una notte in biblioteca\, e torna il giorno dopo\, il 28 Ottobre alle 10 per scoprire cos’ha combinato e sentire delle splendide storie ad alta voce!\n  \n \nCondividi questa pagina su
URL:https://bibliotecastense.it/evento/la-notte-dei-peluche-canelli/2023-10-27/
LOCATION:Biblioteca civica di Canelli “G. Monticone”\, via G.B. Giuliani\, 29\, Canelli\, 14053\, Italia
CATEGORIES:Festa,Bibliobimbi,Letture,Eventi Biblioteche Sistema Astigiano,Iniziative per bambini,Iniziative per ragazzi
END:VEVENT
END:VCALENDAR