BEGIN:VCALENDAR
VERSION:2.0
PRODID:-//Biblioteca Astense Asti - ECPv5.8.0//NONSGML v1.0//EN
CALSCALE:GREGORIAN
METHOD:PUBLISH
X-WR-CALNAME:Biblioteca Astense Asti
X-ORIGINAL-URL:https://bibliotecastense.it
X-WR-CALDESC:Eventi per Biblioteca Astense Asti
BEGIN:VTIMEZONE
TZID:UTC
BEGIN:STANDARD
TZOFFSETFROM:+0000
TZOFFSETTO:+0000
TZNAME:UTC
DTSTART:20230101T000000
END:STANDARD
END:VTIMEZONE
BEGIN:VEVENT
DTSTART;TZID=UTC:20231027T180000
DTEND;TZID=UTC:20231027T200000
DTSTAMP:20260419T164240
CREATED:20231129T100718Z
LAST-MODIFIED:20231129T100718Z
UID:21984-1698429600-1698436800@bibliotecastense.it
SUMMARY:La Notte dei peluches - Canelli
DESCRIPTION:Condividi questa pagina su
URL:https://bibliotecastense.it/evento/la-notte-dei-peluches-canelli/
LOCATION:Biblioteca civica di Canelli “G. Monticone”\, via G.B. Giuliani\, 29\, Canelli\, 14053\, Italia
CATEGORIES:Bibliobimbi,Letture,Eventi Biblioteche Sistema Astigiano,Iniziative per bambini,Iniziative per ragazzi,Biblioteca Civica Canelli
END:VEVENT
END:VCALENDAR