BEGIN:VCALENDAR
VERSION:2.0
PRODID:-//Biblioteca Astense Asti - ECPv5.8.0//NONSGML v1.0//EN
CALSCALE:GREGORIAN
METHOD:PUBLISH
X-WR-CALNAME:Biblioteca Astense Asti
X-ORIGINAL-URL:https://bibliotecastense.it
X-WR-CALDESC:Eventi per Biblioteca Astense Asti
BEGIN:VTIMEZONE
TZID:UTC
BEGIN:STANDARD
TZOFFSETFROM:+0000
TZOFFSETTO:+0000
TZNAME:UTC
DTSTART:20230101T000000
END:STANDARD
END:VTIMEZONE
BEGIN:VEVENT
DTSTART;TZID=UTC:20230211T103000
DTEND;TZID=UTC:20230211T233000
DTSTAMP:20260419T171105
CREATED:20230203T161007Z
LAST-MODIFIED:20230203T161007Z
UID:20880-1676111400-1676158200@bibliotecastense.it
SUMMARY:La tua voce crea legame tra me e te - Letture a Nizza
DESCRIPTION:Un sacco di appuntamenti di lettura per tutte le fasce d’eta\, vi aspettano a Nizza Monferrato. I volontari e le volontarie della città\, vi aspettano nei molti eventi che si terranno tra la Biblioteca Civica U.Eco e l’Istituto Nostra Signora delle Grazie! Partecipate numerosi!\nCondividi questa pagina su
URL:https://bibliotecastense.it/evento/la-tua-voce-crea-legame-tra-me-e-te-letture-a-nizza/2023-02-11/
LOCATION:Istituto Nostra Signora delle Grazie\, Viale don Bosco\, 40\, Nizza Monferrato\, AT\, 14049\, Italia
CATEGORIES:Festa,Bibliobimbi,Letture,Eventi Biblioteche Sistema Astigiano,Iniziative per bambini,Iniziative per ragazzi,Biblioteca civica Umberto Eco – Nizza Monferrato
END:VEVENT
END:VCALENDAR