BEGIN:VCALENDAR
VERSION:2.0
PRODID:-//Biblioteca Astense Asti - ECPv5.8.0//NONSGML v1.0//EN
CALSCALE:GREGORIAN
METHOD:PUBLISH
X-WR-CALNAME:Biblioteca Astense Asti
X-ORIGINAL-URL:https://bibliotecastense.it
X-WR-CALDESC:Eventi per Biblioteca Astense Asti
BEGIN:VTIMEZONE
TZID:UTC
BEGIN:STANDARD
TZOFFSETFROM:+0000
TZOFFSETTO:+0000
TZNAME:UTC
DTSTART:20240101T000000
END:STANDARD
END:VTIMEZONE
BEGIN:VEVENT
DTSTART;TZID=UTC:20240914T090000
DTEND;TZID=UTC:20240914T110000
DTSTAMP:20260419T164455
CREATED:20240909T121910Z
LAST-MODIFIED:20240910T152756Z
UID:22731-1726304400-1726311600@bibliotecastense.it
SUMMARY:Le fiabe classiche - letture ad alta voce - Asti- Asilo Anfossi
DESCRIPTION:Voglia di fiabe?\nEcco gli incontri all’insegna delle storie classiche organizzate dall’asilo Anfossi il sabato mattina dalle 9 alle 11 e aperti a tutte e tutti.\nCondividi questa pagina su
URL:https://bibliotecastense.it/evento/le-fiabe-classiche-letture-ad-alta-voce-asti-asilo-anfossi/2024-09-14/
LOCATION:asilo Anfossi\, Via Angelo Brofferio\, 118\, 14100\, Asti\, AT\, 14100\, Italia
CATEGORIES:Festa,Bibliobimbi,Letture,Eventi Biblioteche Sistema Astigiano,Iniziative per bambini,Iniziative per ragazzi
ORGANIZER;CN="asilo%20Anfossi":MAILTO:anfossi.asti@gmail.com
END:VEVENT
END:VCALENDAR