BEGIN:VCALENDAR
VERSION:2.0
PRODID:-//Biblioteca Astense Asti - ECPv5.8.0//NONSGML v1.0//EN
CALSCALE:GREGORIAN
METHOD:PUBLISH
X-WR-CALNAME:Biblioteca Astense Asti
X-ORIGINAL-URL:https://bibliotecastense.it
X-WR-CALDESC:Eventi per Biblioteca Astense Asti
BEGIN:VTIMEZONE
TZID:UTC
BEGIN:STANDARD
TZOFFSETFROM:+0000
TZOFFSETTO:+0000
TZNAME:UTC
DTSTART:20220101T000000
END:STANDARD
END:VTIMEZONE
BEGIN:VEVENT
DTSTART;TZID=UTC:20220327T103000
DTEND;TZID=UTC:20220327T113000
DTSTAMP:20260421T100515
CREATED:20220308T152633Z
LAST-MODIFIED:20220308T152633Z
UID:19591-1648377000-1648380600@bibliotecastense.it
SUMMARY:Leggi con noi?
DESCRIPTION:Condividi questa pagina su
URL:https://bibliotecastense.it/evento/leggi-con-noi/
LOCATION:Isola d’Asti – Biblioteca comunale\, Via Cavalier G. Fogliotti\, 28\, Isola d'Asti\, Asti\, 14057\, Italia
CATEGORIES:Bibliobimbi,Iniziative per bambini
ATTACH;FMTTYPE=image/png:https://bibliotecastense.it/wp-content/uploads/2021/11/03-25-Isola-dAsti.png
END:VEVENT
END:VCALENDAR