BEGIN:VCALENDAR
VERSION:2.0
PRODID:-//Biblioteca Astense Asti - ECPv5.8.0//NONSGML v1.0//EN
CALSCALE:GREGORIAN
METHOD:PUBLISH
X-WR-CALNAME:Biblioteca Astense Asti
X-ORIGINAL-URL:https://bibliotecastense.it
X-WR-CALDESC:Eventi per Biblioteca Astense Asti
BEGIN:VTIMEZONE
TZID:UTC
BEGIN:STANDARD
TZOFFSETFROM:+0000
TZOFFSETTO:+0000
TZNAME:UTC
DTSTART:20240101T000000
END:STANDARD
END:VTIMEZONE
BEGIN:VEVENT
DTSTART;TZID=UTC:20241207T100000
DTEND;TZID=UTC:20241207T113000
DTSTAMP:20260419T182320
CREATED:20241114T142005Z
LAST-MODIFIED:20241202T090414Z
UID:22935-1733565600-1733571000@bibliotecastense.it
SUMMARY:=ESAURITO= L'elfo dispettoso 7 Dicembre - ASTI
DESCRIPTION:  \n\n=POSTI ESAURITI=\nIl 7 DICEMBRE vieni a conoscere l’elfo dispettoso con le nostre LETTURE ANIMATE + LABORATORIO.\nCi incontreremo presso la biblioteca Astense (via Goltieri 3 Asti) e a seguire ci sposteremo a piedi presso il Polo didattico museale per un bellissimo laboratorio di Natale.\nPorta con te la letterina se desideri spedirla.\nEVENTO GRATUITO – POSTI LIMITATI\nPRENOTAZIONE OBBLIGATORIA\n==> Iscriviti qui: https://forms.gle/Umi7eFERuAK42JuW7 \n  \nElfo Allegato per prenotazioni\nCondividi questa pagina su
URL:https://bibliotecastense.it/evento/lelfo-dispettoso-7-dicembre-asti/
LOCATION:Bibliobimbi e ragazzi\, via Carducci 64\, Asti\, Asti\, 14100\, Italia
CATEGORIES:Festa,Bibliobimbi,Letture,Eventi Biblioteche Sistema Astigiano,Iniziative per bambini,Iniziative per ragazzi
END:VEVENT
END:VCALENDAR