BEGIN:VCALENDAR
VERSION:2.0
PRODID:-//Biblioteca Astense Asti - ECPv5.8.0//NONSGML v1.0//EN
CALSCALE:GREGORIAN
METHOD:PUBLISH
X-WR-CALNAME:Biblioteca Astense Asti
X-ORIGINAL-URL:https://bibliotecastense.it
X-WR-CALDESC:Eventi per Biblioteca Astense Asti
BEGIN:VTIMEZONE
TZID:UTC
BEGIN:STANDARD
TZOFFSETFROM:+0000
TZOFFSETTO:+0000
TZNAME:UTC
DTSTART:20240101T000000
END:STANDARD
END:VTIMEZONE
BEGIN:VEVENT
DTSTART;TZID=UTC:20241023T170000
DTEND;TZID=UTC:20241023T180000
DTSTAMP:20260420T011403
CREATED:20241008T161328Z
LAST-MODIFIED:20241008T161328Z
UID:22855-1729702800-1729706400@bibliotecastense.it
SUMMARY:Lettura ad alta voce - Refrancore
DESCRIPTION:Riaprono le porte della biblioteca di Refrancore!\nNon mancate per dare il bentornato alle volontarie Nati Per Leggere.\nStorie per tutti sulle ali della fantasia!\nCondividi questa pagina su
URL:https://bibliotecastense.it/evento/lettura-ad-alta-voce-refrancore/
LOCATION:Biblioteca M. Quaglino – Refrancore\, Via Cavour 10\, Refrancore\, AT\, 14030\, Italia
CATEGORIES:Festa,Bibliobimbi,Letture,Eventi Biblioteche Sistema Astigiano,Iniziative per bambini,Iniziative per ragazzi
END:VEVENT
END:VCALENDAR