BEGIN:VCALENDAR
VERSION:2.0
PRODID:-//Biblioteca Astense Asti - ECPv5.8.0//NONSGML v1.0//EN
CALSCALE:GREGORIAN
METHOD:PUBLISH
X-WR-CALNAME:Biblioteca Astense Asti
X-ORIGINAL-URL:https://bibliotecastense.it
X-WR-CALDESC:Eventi per Biblioteca Astense Asti
BEGIN:VTIMEZONE
TZID:UTC
BEGIN:STANDARD
TZOFFSETFROM:+0000
TZOFFSETTO:+0000
TZNAME:UTC
DTSTART:20240101T000000
END:STANDARD
END:VTIMEZONE
BEGIN:VEVENT
DTSTART;TZID=UTC:20240531T170000
DTEND;TZID=UTC:20240531T180000
DTSTAMP:20260419T131424
CREATED:20231003T122650Z
LAST-MODIFIED:20231003T122650Z
UID:21741-1717174800-1717178400@bibliotecastense.it
SUMMARY:Letture ad Alta Voce - Belveglio
DESCRIPTION:Riparte il treno di letture ad Alta voce con i volontari della biblioteca di Belveglio.\nOgni mese\, un appuntamento per stare insieme nel venerdì pomeriggio! Non mancate!\nVenerdì 27/10/23 h 17 presso Biblioteca comunale\nVenerdì 24/11/23 h 17 presso Biblioteca comunale\n\n\nVenerdì 26/01/24 h 17 presso Biblioteca comunale\n\nVenerdì 23/02/24 h 17 presso Biblioteca comunale\n\nVenerdì 22/03/24 h 17 presso Biblioteca comunale\n\nVenerdì 19/04/24 h 17 presso Biblioteca comunale\n\nVenerdì 31/05/24 h 17 all’aperto (meteo permettendo)\n\nCondividi questa pagina su
URL:https://bibliotecastense.it/evento/letture-ad-alta-voce-belveglio/2024-05-31/
LOCATION:Biblioteca comunale di Belveglio
CATEGORIES:Bibliobimbi,Letture,Eventi Biblioteche Sistema Astigiano,Iniziative per bambini,Iniziative per ragazzi
END:VEVENT
END:VCALENDAR