BEGIN:VCALENDAR
VERSION:2.0
PRODID:-//Biblioteca Astense Asti - ECPv5.8.0//NONSGML v1.0//EN
CALSCALE:GREGORIAN
METHOD:PUBLISH
X-WR-CALNAME:Biblioteca Astense Asti
X-ORIGINAL-URL:https://bibliotecastense.it
X-WR-CALDESC:Eventi per Biblioteca Astense Asti
BEGIN:VTIMEZONE
TZID:UTC
BEGIN:STANDARD
TZOFFSETFROM:+0000
TZOFFSETTO:+0000
TZNAME:UTC
DTSTART:20230101T000000
END:STANDARD
END:VTIMEZONE
BEGIN:VEVENT
DTSTART;TZID=UTC:20230218T103000
DTEND;TZID=UTC:20230218T113000
DTSTAMP:20260419T133551
CREATED:20230201T170204Z
LAST-MODIFIED:20230201T170204Z
UID:20859-1676716200-1676719800@bibliotecastense.it
SUMMARY:Letture ad Alta Voce - Bibliobimbi Asti
DESCRIPTION:Le volontarie Nati per leggere aspettano tutti i bimbi in biblioteca ad Asti\, sabato 18 alle 10\,30! Non mancate!\nCondividi questa pagina su
URL:https://bibliotecastense.it/evento/letture-ad-alta-voce-bibliobimbi-asti/
LOCATION:Bibliobimbi e ragazzi\, via Carducci 64\, Asti\, Asti\, 14100\, Italia
CATEGORIES:Bibliobimbi,Letture,Eventi Biblioteche Sistema Astigiano,Iniziative per bambini
END:VEVENT
END:VCALENDAR