BEGIN:VCALENDAR
VERSION:2.0
PRODID:-//Biblioteca Astense Asti - ECPv5.8.0//NONSGML v1.0//EN
CALSCALE:GREGORIAN
METHOD:PUBLISH
X-WR-CALNAME:Biblioteca Astense Asti
X-ORIGINAL-URL:https://bibliotecastense.it
X-WR-CALDESC:Eventi per Biblioteca Astense Asti
BEGIN:VTIMEZONE
TZID:UTC
BEGIN:STANDARD
TZOFFSETFROM:+0000
TZOFFSETTO:+0000
TZNAME:UTC
DTSTART:20230101T000000
END:STANDARD
END:VTIMEZONE
BEGIN:VEVENT
DTSTART;TZID=UTC:20230318T103000
DTEND;TZID=UTC:20230318T113000
DTSTAMP:20260419T152056
CREATED:20230223T135126Z
LAST-MODIFIED:20230223T135126Z
UID:20980-1679135400-1679139000@bibliotecastense.it
SUMMARY:Letture al parco - Asti
DESCRIPTION:Voglia di sole e di stare all’aperto? Noi tantissima! vi aspettiamo quindi  il 18 marzo alle 10\,30 al parco Rio Crosio\, per godere tutti insieme di storie\, del verde e del sole! Non mancate!\nIn caso di maltempo\, l’evento si svolgerà nella sala Bibliobimbi della Biblioteca Astense\nCondividi questa pagina su
URL:https://bibliotecastense.it/evento/letture-al-parco-asti/
LOCATION:Parco Rio Crosio\, Via Bistolfi\, 1\, Asti\, IT\, 14100\, Italia
CATEGORIES:Festa,Bibliobimbi,Letture,Eventi Biblioteche Sistema Astigiano,Iniziative per bambini,Iniziative per ragazzi
END:VEVENT
END:VCALENDAR