BEGIN:VCALENDAR
VERSION:2.0
PRODID:-//Biblioteca Astense Asti - ECPv5.8.0//NONSGML v1.0//EN
CALSCALE:GREGORIAN
METHOD:PUBLISH
X-WR-CALNAME:Biblioteca Astense Asti
X-ORIGINAL-URL:https://bibliotecastense.it
X-WR-CALDESC:Eventi per Biblioteca Astense Asti
BEGIN:VTIMEZONE
TZID:UTC
BEGIN:STANDARD
TZOFFSETFROM:+0000
TZOFFSETTO:+0000
TZNAME:UTC
DTSTART:20240101T000000
END:STANDARD
END:VTIMEZONE
BEGIN:VEVENT
DTSTART;TZID=UTC:20240615T103000
DTEND;TZID=UTC:20240615T233000
DTSTAMP:20260419T171123
CREATED:20240523T155239Z
LAST-MODIFIED:20240523T155239Z
UID:22644-1718447400-1718494200@bibliotecastense.it
SUMMARY:letture al parco  - Centro per le Famiglie - Parchi di Asti
DESCRIPTION:4 appuntamenti da non perdere in giro per i nostri parchi cittadini\, un’occasione per riscoprire il verde a portata di mano e vivere la città. Scopriamo insieme tutti i parchi leggendo con Il Centro per le famiglie del Comune di Asti!\nCondividi questa pagina su
URL:https://bibliotecastense.it/evento/letture-al-parco-centro-per-le-famiglie-parchi-di-asti/2024-06-15/
LOCATION:Centro per le Famiglie – comune di Asti\, Piazza Roma\, 4\, Asti\, Asti\, 14100\, Italia
CATEGORIES:Festa,Bibliobimbi,Letture,Eventi Biblioteche Sistema Astigiano,Iniziative per bambini,Iniziative per ragazzi
END:VEVENT
END:VCALENDAR