BEGIN:VCALENDAR
VERSION:2.0
PRODID:-//Biblioteca Astense Asti - ECPv5.8.0//NONSGML v1.0//EN
CALSCALE:GREGORIAN
METHOD:PUBLISH
X-WR-CALNAME:Biblioteca Astense Asti
X-ORIGINAL-URL:https://bibliotecastense.it
X-WR-CALDESC:Eventi per Biblioteca Astense Asti
BEGIN:VTIMEZONE
TZID:UTC
BEGIN:STANDARD
TZOFFSETFROM:+0000
TZOFFSETTO:+0000
TZNAME:UTC
DTSTART:20230101T000000
END:STANDARD
END:VTIMEZONE
BEGIN:VEVENT
DTSTART;TZID=UTC:20230520T103000
DTEND;TZID=UTC:20230520T120000
DTSTAMP:20260419T152055
CREATED:20230505T145257Z
LAST-MODIFIED:20230519T074413Z
UID:21362-1684578600-1684584000@bibliotecastense.it
SUMMARY:*SPOSTATO IN BIBLIOBIMBI* Letture - ASTI
DESCRIPTION:Un nuovo appuntamento di lettura Le volontarie della biblioteca Astense vi aspettano alle 10\,45 in bibliobimbi. Non mancate!-\nin caso di maltempo\, l’evento si terrà in biblioteca\nCondividi questa pagina su
URL:https://bibliotecastense.it/evento/letture-al-parco-pastrone-lungoborbore/
LOCATION:Bibliobimbi e ragazzi\, via Carducci 64\, Asti\, Asti\, 14100\, Italia
CATEGORIES:Festa,Bibliobimbi,Letture,Eventi Biblioteche Sistema Astigiano,Iniziative per bambini,Iniziative per ragazzi
END:VEVENT
END:VCALENDAR