BEGIN:VCALENDAR
VERSION:2.0
PRODID:-//Biblioteca Astense Asti - ECPv5.8.0//NONSGML v1.0//EN
CALSCALE:GREGORIAN
METHOD:PUBLISH
X-WR-CALNAME:Biblioteca Astense Asti
X-ORIGINAL-URL:https://bibliotecastense.it
X-WR-CALDESC:Eventi per Biblioteca Astense Asti
BEGIN:VTIMEZONE
TZID:UTC
BEGIN:STANDARD
TZOFFSETFROM:+0000
TZOFFSETTO:+0000
TZNAME:UTC
DTSTART:20250101T000000
END:STANDARD
END:VTIMEZONE
BEGIN:VEVENT
DTSTART;TZID=UTC:20250315T160000
DTEND;TZID=UTC:20250315T170000
DTSTAMP:20260420T114435
CREATED:20250226T150841Z
LAST-MODIFIED:20250226T150841Z
UID:23432-1742054400-1742058000@bibliotecastense.it
SUMMARY:LETTURE DAL RIDERE - CALLIANO
DESCRIPTION:SABATO 15 MARZO VI ASPETTIAMO NUMEROSI PER LEGGERE E RIDERE INSIEME! MA NON FINISCE QUI…\nDopo le letture ad alta voce seguirà un laboratorio a tema e una golosa merenda!\nEVENTO GRATUITO – PRENOTAZIONE OBBLIGATORIA\nCondividi questa pagina su
URL:https://bibliotecastense.it/evento/letture-dal-ridere-calliano/
LOCATION:sala polivalente – Calliano\, Via Cairoli\, 2\, Calliano\, AT\, 14031\, Italia
CATEGORIES:Bibliobimbi,Letture,Eventi Biblioteche Sistema Astigiano,Iniziative per bambini,Iniziative per ragazzi
END:VEVENT
END:VCALENDAR