BEGIN:VCALENDAR
VERSION:2.0
PRODID:-//Biblioteca Astense Asti - ECPv5.8.0//NONSGML v1.0//EN
CALSCALE:GREGORIAN
METHOD:PUBLISH
X-WR-CALNAME:Biblioteca Astense Asti
X-ORIGINAL-URL:https://bibliotecastense.it
X-WR-CALDESC:Eventi per Biblioteca Astense Asti
BEGIN:VTIMEZONE
TZID:UTC
BEGIN:STANDARD
TZOFFSETFROM:+0000
TZOFFSETTO:+0000
TZNAME:UTC
DTSTART:20240101T000000
END:STANDARD
END:VTIMEZONE
BEGIN:VEVENT
DTSTART;TZID=UTC:20241031T163000
DTEND;TZID=UTC:20241031T173000
DTSTAMP:20260419T152300
CREATED:20241011T152528Z
LAST-MODIFIED:20241011T152528Z
UID:22878-1730392200-1730395800@bibliotecastense.it
SUMMARY:Letture di Halloween 👻🎃 - Nizza Monferrato
DESCRIPTION:Vi aspettiamo in Biblioteca per due appuntamenti di lettura rivolti al bambini dai 3 ai 9 anni. \nMartedì 29 ottobre dalle 16:45 alle 17:30 Giovedì 31 ottobre dalle 16:45 alle 17:30 \nChissà quale mostruosa sorpresa ci sarà alla fine delle letture? Lo scopriremo insieme 👻👻\nCondividi questa pagina su
URL:https://bibliotecastense.it/evento/letture-di-halloween-%f0%9f%91%bb%f0%9f%8e%83-nizza-monferrato/2024-10-31/
LOCATION:Nizza Monferrato – Biblioteca civica “Umberto Eco”\, Via Crova\, 6\, Nizza Monferrato\, Asti\, 14049\, Italia
CATEGORIES:Festa,Bibliobimbi,Letture,Eventi Biblioteche Sistema Astigiano,Iniziative per bambini,Iniziative per ragazzi,Biblioteca civica Umberto Eco – Nizza Monferrato
END:VEVENT
END:VCALENDAR