BEGIN:VCALENDAR
VERSION:2.0
PRODID:-//Biblioteca Astense Asti - ECPv5.8.0//NONSGML v1.0//EN
CALSCALE:GREGORIAN
METHOD:PUBLISH
X-WR-CALNAME:Biblioteca Astense Asti
X-ORIGINAL-URL:https://bibliotecastense.it
X-WR-CALDESC:Eventi per Biblioteca Astense Asti
BEGIN:VTIMEZONE
TZID:UTC
BEGIN:STANDARD
TZOFFSETFROM:+0000
TZOFFSETTO:+0000
TZNAME:UTC
DTSTART:20240101T000000
END:STANDARD
END:VTIMEZONE
BEGIN:VEVENT
DTSTART;TZID=UTC:20241221T103000
DTEND;TZID=UTC:20241221T113000
DTSTAMP:20260419T185539
CREATED:20241214T145536Z
LAST-MODIFIED:20241214T145536Z
UID:23136-1734777000-1734780600@bibliotecastense.it
SUMMARY:Letture di Natale - Villanova d'Asti
DESCRIPTION:Il Natale non finisce mai! E le volontarie della Biblioteca di Villanova ci accompagneranno durante tutte le feste\, per leggere storie e divertirci insieme!\nCondividi questa pagina su
URL:https://bibliotecastense.it/evento/letture-di-natale-villanova-dasti/2024-12-21/
LOCATION:Villanova d’Asti – Biblioteca Civica\, Villanova d'Asti\, Asti\, 14019\, Italia
CATEGORIES:Festa,Bibliobimbi,Letture,Eventi Biblioteche Sistema Astigiano,Iniziative per bambini,Iniziative per ragazzi
END:VEVENT
END:VCALENDAR