BEGIN:VCALENDAR
VERSION:2.0
PRODID:-//Biblioteca Astense Asti - ECPv5.8.0//NONSGML v1.0//EN
CALSCALE:GREGORIAN
METHOD:PUBLISH
X-WR-CALNAME:Biblioteca Astense Asti
X-ORIGINAL-URL:https://bibliotecastense.it
X-WR-CALDESC:Eventi per Biblioteca Astense Asti
BEGIN:VTIMEZONE
TZID:UTC
BEGIN:STANDARD
TZOFFSETFROM:+0000
TZOFFSETTO:+0000
TZNAME:UTC
DTSTART:20220101T000000
END:STANDARD
END:VTIMEZONE
BEGIN:VEVENT
DTSTART;TZID=UTC:20220726T100000
DTEND;TZID=UTC:20220726T233000
DTSTAMP:20260419T160954
CREATED:20220722T135212Z
LAST-MODIFIED:20220722T135424Z
UID:19995-1658829600-1658878200@bibliotecastense.it
SUMMARY:LEGGIMI IN ALTALENA
DESCRIPTION:Cosa c’è di più bello di un’altalena in un parco d’estate? \nTutti i martedì mattina di Luglio e di Agosto\, a Montegrosso  ci saranno momenti di lettura all’aperto! \nPer un’estate piena di libri!!! \nCondividi questa pagina su
URL:https://bibliotecastense.it/evento/letture-in-altalena/2022-07-26/
LOCATION:Parco giochi di Piazza Saracco\, Piazza Saracco 5\, Montegrosso\, Asti\, 14048\, Italia
CATEGORIES:Bibliobimbi,Letture,Iniziative per bambini,Iniziative per ragazzi
END:VEVENT
END:VCALENDAR