BEGIN:VCALENDAR
VERSION:2.0
PRODID:-//Biblioteca Astense Asti - ECPv5.8.0//NONSGML v1.0//EN
CALSCALE:GREGORIAN
METHOD:PUBLISH
X-WR-CALNAME:Biblioteca Astense Asti
X-ORIGINAL-URL:https://bibliotecastense.it
X-WR-CALDESC:Eventi per Biblioteca Astense Asti
BEGIN:VTIMEZONE
TZID:UTC
BEGIN:STANDARD
TZOFFSETFROM:+0000
TZOFFSETTO:+0000
TZNAME:UTC
DTSTART:20240101T000000
END:STANDARD
END:VTIMEZONE
BEGIN:VEVENT
DTSTART;TZID=UTC:20240511T153000
DTEND;TZID=UTC:20240511T170000
DTSTAMP:20260419T134657
CREATED:20240427T123930Z
LAST-MODIFIED:20240502T135147Z
UID:22432-1715441400-1715446800@bibliotecastense.it
SUMMARY:Letture SottoSopra - Asti - Succ. Ist. Monti
DESCRIPTION:Una lettura super speciale per tutte le bimbe e i bimbi fino a 8 anni.\nLetture da condividere per crescere insieme\, maschi e femmine\, nel rispetto e nella parità.\nInoltre\, le studentesse e gli studenti del Monti ci accompagneranno in una divertente mostra tra disegni e pagine di libri!.\nDavvero imperdibile!\nCondividi questa pagina su
URL:https://bibliotecastense.it/evento/letture-sottosopra-asti-succ-ist-monti/
LOCATION:Succursale Istituto Monti\, Via Gabiani\, 30\, Asti\, AT\, 14100
CATEGORIES:Presentazione libro,Festa,Bibliobimbi,Letture,Eventi Biblioteche Sistema Astigiano,Iniziative per bambini,Iniziative per ragazzi
END:VEVENT
END:VCALENDAR