BEGIN:VCALENDAR
VERSION:2.0
PRODID:-//Biblioteca Astense Asti - ECPv5.8.0//NONSGML v1.0//EN
CALSCALE:GREGORIAN
METHOD:PUBLISH
X-WR-CALNAME:Biblioteca Astense Asti
X-ORIGINAL-URL:https://bibliotecastense.it
X-WR-CALDESC:Eventi per Biblioteca Astense Asti
BEGIN:VTIMEZONE
TZID:UTC
BEGIN:STANDARD
TZOFFSETFROM:+0000
TZOFFSETTO:+0000
TZNAME:UTC
DTSTART:20250101T000000
END:STANDARD
END:VTIMEZONE
BEGIN:VEVENT
DTSTART;TZID=UTC:20250405T100000
DTEND;TZID=UTC:20250405T110000
DTSTAMP:20260419T120745
CREATED:20250203T200009Z
LAST-MODIFIED:20250227T101220Z
UID:23360-1743847200-1743850800@bibliotecastense.it
SUMMARY:Libri a colazione - Villanova d'Asti
DESCRIPTION: Tante storie da assaporare per colazione!\nNon mancate alle letture della biblioteca civica di Villanova!\nAperto a tutte e tutti\, gratuito e senza bisogno di prenotazione!\nCondividi questa pagina su
URL:https://bibliotecastense.it/evento/libri-a-colazione-villanova-dasti/2025-04-05/
LOCATION:Villanova d’Asti – Biblioteca Civica\, Villanova d'Asti\, Asti\, 14019\, Italia
CATEGORIES:Festa,Bibliobimbi,Letture,Eventi Biblioteche Sistema Astigiano,Iniziative per bambini,Iniziative per ragazzi
END:VEVENT
END:VCALENDAR