BEGIN:VCALENDAR
VERSION:2.0
PRODID:-//Biblioteca Astense Asti - ECPv5.8.0//NONSGML v1.0//EN
CALSCALE:GREGORIAN
METHOD:PUBLISH
X-WR-CALNAME:Biblioteca Astense Asti
X-ORIGINAL-URL:https://bibliotecastense.it
X-WR-CALDESC:Eventi per Biblioteca Astense Asti
BEGIN:VTIMEZONE
TZID:UTC
BEGIN:STANDARD
TZOFFSETFROM:+0000
TZOFFSETTO:+0000
TZNAME:UTC
DTSTART:20250101T000000
END:STANDARD
END:VTIMEZONE
BEGIN:VEVENT
DTSTART;TZID=UTC:20250613T203000
DTEND;TZID=UTC:20250613T220000
DTSTAMP:20260419T152112
CREATED:20250609T192509Z
LAST-MODIFIED:20250609T192509Z
UID:23753-1749846600-1749852000@bibliotecastense.it
SUMMARY:Pigiama party letterario - VILLANOVA
DESCRIPTION:  \n  \nUna grande novità!!! \nNon mancare al primo pigiama party letterario per bambini dai 3 ai 7 anni (che riescono a stare senza genitori) dalle 20\,30 alle 22\,00 del 13 giugno. \nPosti limitati – Prenotazione obbligatoria (inquadra il qr code) \nEvento gratuito \nCondividi questa pagina su
URL:https://bibliotecastense.it/evento/pigiama-party-letterario-villanova/
LOCATION:Villanova d’Asti – Biblioteca Civica\, Villanova d'Asti\, Asti\, 14019\, Italia
CATEGORIES:Bibliobimbi,Letture,Eventi Biblioteche Sistema Astigiano,Iniziative per bambini,Iniziative per ragazzi
END:VEVENT
END:VCALENDAR