BEGIN:VCALENDAR
VERSION:2.0
PRODID:-//Biblioteca Astense Asti - ECPv5.8.0//NONSGML v1.0//EN
CALSCALE:GREGORIAN
METHOD:PUBLISH
X-WR-CALNAME:Biblioteca Astense Asti
X-ORIGINAL-URL:https://bibliotecastense.it
X-WR-CALDESC:Eventi per Biblioteca Astense Asti
BEGIN:VTIMEZONE
TZID:UTC
BEGIN:STANDARD
TZOFFSETFROM:+0000
TZOFFSETTO:+0000
TZNAME:UTC
DTSTART:20250101T000000
END:STANDARD
END:VTIMEZONE
BEGIN:VEVENT
DTSTART;TZID=UTC:20250330T110000
DTEND;TZID=UTC:20250330T120000
DTSTAMP:20260419T152047
CREATED:20250302T080726Z
LAST-MODIFIED:20250302T080726Z
UID:23453-1743332400-1743336000@bibliotecastense.it
SUMMARY:PRATI IN FIORE LETTURE E LABORATORIO - ASTI
DESCRIPTION:Vi aspettiamo numerosi alle nostre letture PRATI IN FIORE DOMENICA 30 MARZO ORE 11 presso la libreria Il Libraccio di Asti.\nLetture ad alta voce + laboratorio per bambine e bambini dai 4 anni.\nEvento gratuito\, senza prenotazione.\nCondividi questa pagina su
URL:https://bibliotecastense.it/evento/prati-in-fiore-letture-e-laboratorio-asti/
LOCATION:Libreria Il Libraccio\, Corso Alfieri\,188\, Asti\, AT\, 14100\, Italia
CATEGORIES:Bibliobimbi,Letture,Eventi Biblioteche Sistema Astigiano,Iniziative per bambini,Iniziative per ragazzi
ORGANIZER;CN="Libreria%20Il%20Libraccio":MAILTO:asti@libraccio.it
END:VEVENT
END:VCALENDAR