BEGIN:VCALENDAR
VERSION:2.0
PRODID:-//Biblioteca Astense Asti - ECPv5.8.0//NONSGML v1.0//EN
CALSCALE:GREGORIAN
METHOD:PUBLISH
X-WR-CALNAME:Biblioteca Astense Asti
X-ORIGINAL-URL:https://bibliotecastense.it
X-WR-CALDESC:Eventi per Biblioteca Astense Asti
BEGIN:VTIMEZONE
TZID:UTC
BEGIN:STANDARD
TZOFFSETFROM:+0000
TZOFFSETTO:+0000
TZNAME:UTC
DTSTART:20230101T000000
END:STANDARD
END:VTIMEZONE
BEGIN:VEVENT
DTSTART;TZID=UTC:20230423T103000
DTEND;TZID=UTC:20230423T113000
DTSTAMP:20260421T084656
CREATED:20230417T071420Z
LAST-MODIFIED:20230417T071420Z
UID:21276-1682245800-1682249400@bibliotecastense.it
SUMMARY:Prato fiorito - letture a Fiori in fiera - Isola d'Asti
DESCRIPTION:Fiori\, colori\, primavera e tanti libri animati dalle volontarie della biblioteca di Isola d’Asti\, vi aspettano a Fiori in fiera\, il 23 aprile alle 10\,30\nCondividi questa pagina su
URL:https://bibliotecastense.it/evento/prato-fiorito-letture-a-fiori-in-fiera-isola-dasti/
LOCATION:Piazza di Isola d’Asti
CATEGORIES:Bibliobimbi,Letture,Eventi Biblioteche Sistema Astigiano,Iniziative per bambini,Iniziative per ragazzi,Biblioteca Comunale di Isola d'Asti
END:VEVENT
END:VCALENDAR