BEGIN:VCALENDAR
VERSION:2.0
PRODID:-//Biblioteca Astense Asti - ECPv5.8.0//NONSGML v1.0//EN
CALSCALE:GREGORIAN
METHOD:PUBLISH
X-WR-CALNAME:Biblioteca Astense Asti
X-ORIGINAL-URL:https://bibliotecastense.it
X-WR-CALDESC:Eventi per Biblioteca Astense Asti
BEGIN:VTIMEZONE
TZID:UTC
BEGIN:STANDARD
TZOFFSETFROM:+0000
TZOFFSETTO:+0000
TZNAME:UTC
DTSTART:20230101T000000
END:STANDARD
END:VTIMEZONE
BEGIN:VEVENT
DTSTART;TZID=UTC:20230506T103000
DTEND;TZID=UTC:20230506T113000
DTSTAMP:20260419T133345
CREATED:20230505T144533Z
LAST-MODIFIED:20230505T144533Z
UID:21360-1683369000-1683372600@bibliotecastense.it
SUMMARY:Se leggi sei forte!
DESCRIPTION:Per tutti i bimbi dai 3 ai 9 anni\, appuntamento al Giardino dei Giusti per le super letture di Maggio! non mancate!\nCondividi questa pagina su
URL:https://bibliotecastense.it/evento/se-leggi-sei-forte/
LOCATION:Nizza Monferrato – Biblioteca civica “Umberto Eco”\, Via Crova\, 6\, Nizza Monferrato\, Asti\, 14049\, Italia
CATEGORIES:Festa,Bibliobimbi,Letture,Eventi Biblioteche Sistema Astigiano,Iniziative per bambini,Iniziative per ragazzi,Biblioteca civica Umberto Eco – Nizza Monferrato
END:VEVENT
END:VCALENDAR