BEGIN:VCALENDAR
VERSION:2.0
PRODID:-//Biblioteca Astense Asti - ECPv5.8.0//NONSGML v1.0//EN
CALSCALE:GREGORIAN
METHOD:PUBLISH
X-WR-CALNAME:Biblioteca Astense Asti
X-ORIGINAL-URL:https://bibliotecastense.it
X-WR-CALDESC:Eventi per Biblioteca Astense Asti
BEGIN:VTIMEZONE
TZID:UTC
BEGIN:STANDARD
TZOFFSETFROM:+0000
TZOFFSETTO:+0000
TZNAME:UTC
DTSTART:20240101T000000
END:STANDARD
END:VTIMEZONE
BEGIN:VEVENT
DTSTART;TZID=UTC:20240518T153000
DTEND;TZID=UTC:20240518T170000
DTSTAMP:20260419T152853
CREATED:20240502T143124Z
LAST-MODIFIED:20240502T145646Z
UID:22458-1716046200-1716051600@bibliotecastense.it
SUMMARY:SIRENA - Lettura e laboratorio con presentazione - Asti - su prenotazione
DESCRIPTION:Una incredibile anteprima! La lettura di Sirena a cura dell’autrice Daniela Bucci. Una storia di sostenibilità e amore. Seguirà un laboratorio davvero speciale. Iscrivetevi!\nEvento gratuito con prenotazione obbligatoria a cliccando qui!\n  \nCondividi questa pagina su
URL:https://bibliotecastense.it/evento/sirena-lettura-e-laboratorio-con-presentazione-asti-su-prenotazione/
LOCATION:Bibliobimbi e ragazzi\, via Carducci 64\, Asti\, Asti\, 14100\, Italia
CATEGORIES:Presentazione libro,Festa,Bibliobimbi,Letture,Eventi Biblioteche Sistema Astigiano,Iniziative per bambini,Iniziative per ragazzi
END:VEVENT
END:VCALENDAR