BEGIN:VCALENDAR
VERSION:2.0
PRODID:-//Biblioteca Astense Asti - ECPv5.8.0//NONSGML v1.0//EN
CALSCALE:GREGORIAN
METHOD:PUBLISH
X-WR-CALNAME:Biblioteca Astense Asti
X-ORIGINAL-URL:https://bibliotecastense.it
X-WR-CALDESC:Eventi per Biblioteca Astense Asti
BEGIN:VTIMEZONE
TZID:UTC
BEGIN:STANDARD
TZOFFSETFROM:+0000
TZOFFSETTO:+0000
TZNAME:UTC
DTSTART:20240101T000000
END:STANDARD
END:VTIMEZONE
BEGIN:VEVENT
DTSTART;TZID=UTC:20241116T100000
DTEND;TZID=UTC:20241116T110000
DTSTAMP:20260419T213215
CREATED:20241028T103202Z
LAST-MODIFIED:20241028T103202Z
UID:22968-1731751200-1731754800@bibliotecastense.it
SUMMARY:Storie del Bosco - Villanova
DESCRIPTION:Storie del Bosco\n16 novembre ore 10 presso la biblioteca di Villanova.\n\nLe Dadine\, volontarie della biblioteca di Villanova\, racconteranno delle storie che avranno come protagonista il bosco e gli animali che vi abitano.\nCondividi questa pagina su
URL:https://bibliotecastense.it/evento/storie-del-bosco-villanova/
LOCATION:Villanova d’Asti – Biblioteca Civica\, Villanova d'Asti\, Asti\, 14019\, Italia
CATEGORIES:Festa,Bibliobimbi,Letture,Eventi Biblioteche Sistema Astigiano,Iniziative per bambini,Iniziative per ragazzi
END:VEVENT
END:VCALENDAR