BEGIN:VCALENDAR
VERSION:2.0
PRODID:-//Biblioteca Astense Asti - ECPv5.8.0//NONSGML v1.0//EN
CALSCALE:GREGORIAN
METHOD:PUBLISH
X-WR-CALNAME:Biblioteca Astense Asti
X-ORIGINAL-URL:https://bibliotecastense.it
X-WR-CALDESC:Eventi per Biblioteca Astense Asti
BEGIN:VTIMEZONE
TZID:UTC
BEGIN:STANDARD
TZOFFSETFROM:+0000
TZOFFSETTO:+0000
TZNAME:UTC
DTSTART:20210101T000000
END:STANDARD
END:VTIMEZONE
BEGIN:VEVENT
DTSTART;TZID=UTC:20211218T103000
DTEND;TZID=UTC:20211218T113000
DTSTAMP:20260419T181522
CREATED:20211123T115845Z
LAST-MODIFIED:20211214T093616Z
UID:18965-1639823400-1639827000@bibliotecastense.it
SUMMARY:Storie e racconti di Natale
DESCRIPTION:[vc_row css_animation=”” row_type=”row” use_row_as_full_screen_section=”no” type=”full_width” angled_section=”no” text_align=”left” background_image_as_pattern=”without_pattern”][vc_column width=”1/2″][vc_single_image image=”19026″ img_size=”full” qode_css_animation=””][/vc_column][vc_column width=”1/2″][/vc_column][/vc_row] \nCondividi questa pagina su
URL:https://bibliotecastense.it/evento/storie-e-racconti-di-natale/
LOCATION:San Damiano d’Asti – Biblioteca civica “G. Nosengo”\, Biblioteca civica Nosengo\, San Damiano d'Asti\, 14015\, Italia
CATEGORIES:Bibliobimbi,Iniziative per bambini
END:VEVENT
END:VCALENDAR