BEGIN:VCALENDAR
VERSION:2.0
PRODID:-//Biblioteca Astense Asti - ECPv5.8.0//NONSGML v1.0//EN
CALSCALE:GREGORIAN
METHOD:PUBLISH
X-WR-CALNAME:Biblioteca Astense Asti
X-ORIGINAL-URL:https://bibliotecastense.it
X-WR-CALDESC:Eventi per Biblioteca Astense Asti
BEGIN:VTIMEZONE
TZID:UTC
BEGIN:STANDARD
TZOFFSETFROM:+0000
TZOFFSETTO:+0000
TZNAME:UTC
DTSTART:20210101T000000
END:STANDARD
END:VTIMEZONE
BEGIN:VEVENT
DTSTART;VALUE=DATE:20210618
DTEND;VALUE=DATE:20210619
DTSTAMP:20260419T170106
CREATED:20210715T123553Z
LAST-MODIFIED:20210715T123553Z
UID:17335-1623974400-1624060799@bibliotecastense.it
SUMMARY:Storie in Kamishibai!
DESCRIPTION:[vc_row css_animation=”” row_type=”row” use_row_as_full_screen_section=”no” type=”full_width” angled_section=”no” text_align=”left” background_image_as_pattern=”without_pattern”][vc_column width=”1/3″][vc_single_image image=”17336″ img_size=”full” onclick=”link_image” qode_css_animation=””][/vc_column][vc_column width=”2/3″][vc_column_text]Iniziativa aperta a tutti. \nFascia di età: 2-6 anni \nLetture a cura delle volontarie Nati per Leggere della Fondazione Biblioteca Astense. \nPosti limitati. Prenotazione obbligatoria entro mercoledì 16 giugno\, scrivendo una mail a bibliobimbi@bibliotecastense.it e indicando: nome\, cognome\, età della bambina / del bambino ; nome dell’adulto accompagnatore (cui si chiede di rimanere durante tutto l’incontro).[/vc_column_text][/vc_column][/vc_row] \nCondividi questa pagina su
URL:https://bibliotecastense.it/evento/storie-in-kamishibai/
LOCATION:Cortile della Biblioteca Astense\, Via Goltieri 3\, Asti\, Asti\, 14100\, Italia
CATEGORIES:Bibliobimbi
END:VEVENT
END:VCALENDAR