BEGIN:VCALENDAR
VERSION:2.0
PRODID:-//Biblioteca Astense Asti - ECPv5.8.0//NONSGML v1.0//EN
CALSCALE:GREGORIAN
METHOD:PUBLISH
X-WR-CALNAME:Biblioteca Astense Asti
X-ORIGINAL-URL:https://bibliotecastense.it
X-WR-CALDESC:Eventi per Biblioteca Astense Asti
BEGIN:VTIMEZONE
TZID:UTC
BEGIN:STANDARD
TZOFFSETFROM:+0000
TZOFFSETTO:+0000
TZNAME:UTC
DTSTART:20240101T000000
END:STANDARD
END:VTIMEZONE
BEGIN:VEVENT
DTSTART;TZID=UTC:20241113T170000
DTEND;TZID=UTC:20241113T180000
DTSTAMP:20260419T182446
CREATED:20241031T143156Z
LAST-MODIFIED:20241031T144457Z
UID:22997-1731517200-1731520800@bibliotecastense.it
SUMMARY:Tante nuove storie per bambini curiosi! - BUTTIGLIERA
DESCRIPTION:Letture 0-6 : Tante nuove storie per bambini curiosi!\nLetture e merenda negli incontri dedicati ai bambini 0 – 6 anni presso la biblioteca di Buttigliera.\nVi aspettiamo numerosi!\nCondividi questa pagina su
URL:https://bibliotecastense.it/evento/tante-nuove-storie-per-bambini-curiosi-buttigliera/2024-11-13/
LOCATION:Buttigliera d’Asti – Biblioteca civica(ex Chiesa di Sant’Elisabetta)\, Via Vittorio Emanuele\, Buttigliera d'Asti\, Asti\, 14021\, Italia
CATEGORIES:Festa,Bibliobimbi,Letture,Eventi Biblioteche Sistema Astigiano,Iniziative per bambini,Iniziative per ragazzi,Biblioteca Comunale Buttigliera d’Asti
END:VEVENT
END:VCALENDAR