BEGIN:VCALENDAR
VERSION:2.0
PRODID:-//Biblioteca Astense Asti - ECPv5.8.0//NONSGML v1.0//EN
CALSCALE:GREGORIAN
METHOD:PUBLISH
X-WR-CALNAME:Biblioteca Astense Asti
X-ORIGINAL-URL:https://bibliotecastense.it
X-WR-CALDESC:Eventi per Biblioteca Astense Asti
BEGIN:VTIMEZONE
TZID:UTC
BEGIN:STANDARD
TZOFFSETFROM:+0000
TZOFFSETTO:+0000
TZNAME:UTC
DTSTART:20220101T000000
END:STANDARD
END:VTIMEZONE
BEGIN:VEVENT
DTSTART;TZID=UTC:20220424T150000
DTEND;TZID=UTC:20220424T160000
DTSTAMP:20260421T132213
CREATED:20220224T084353Z
LAST-MODIFIED:20220318T101640Z
UID:19570-1650812400-1650816000@bibliotecastense.it
SUMMARY:Ti leggo una storia...
DESCRIPTION:Condividi questa pagina su
URL:https://bibliotecastense.it/evento/ti-leggo-una-storia/
LOCATION:Celle Enomondo – Parco giochi\, Via Roma\, 11\, Celle Enomondo\, Asti\, 14010\, Italia
CATEGORIES:Bibliobimbi,Iniziative per bambini
ATTACH;FMTTYPE=image/png:https://bibliotecastense.it/wp-content/uploads/2022/02/Incontro-NPL-Celle-Enomondo_24aprile2022.png
END:VEVENT
END:VCALENDAR