BEGIN:VCALENDAR
VERSION:2.0
PRODID:-//Biblioteca Astense Asti - ECPv5.8.0//NONSGML v1.0//EN
CALSCALE:GREGORIAN
METHOD:PUBLISH
X-WR-CALNAME:Biblioteca Astense Asti
X-ORIGINAL-URL:https://bibliotecastense.it
X-WR-CALDESC:Eventi per Biblioteca Astense Asti
BEGIN:VTIMEZONE
TZID:UTC
BEGIN:STANDARD
TZOFFSETFROM:+0000
TZOFFSETTO:+0000
TZNAME:UTC
DTSTART:20250101T000000
END:STANDARD
END:VTIMEZONE
BEGIN:VEVENT
DTSTART;TZID=UTC:20250517T103000
DTEND;TZID=UTC:20250517T113000
DTSTAMP:20260419T152818
CREATED:20241011T153159Z
LAST-MODIFIED:20241011T153418Z
UID:22887-1747477800-1747481400@bibliotecastense.it
SUMMARY:Ti va di sentire una storia? - Nizza Monferrato
DESCRIPTION:Ricominciano le letture anche nel punto lettura dell’Istituto Nostra Signora delle Grazie di\n\nNizza Monferrato. Quest’anno attraverseremo tutti gli ambienti del nostro bellissimo pianeta. Vi aspettiamo sabato alle 10:30 per scoprire le storie del bosco!\nCondividi questa pagina su
URL:https://bibliotecastense.it/evento/ti-va-di-sentire-una-storia-nizza-monferrato/2025-05-17/
LOCATION:Istituto Nostra Signora delle Grazie\, Viale don Bosco\, 40\, Nizza Monferrato\, AT\, 14049\, Italia
CATEGORIES:Festa,Bibliobimbi,Letture,Eventi Biblioteche Sistema Astigiano,Iniziative per bambini,Iniziative per ragazzi
ORGANIZER;CN="Istituto%20Nostra%20Signora%20delle%20Grazie":MAILTO:segreteria@scuolanizza.it
END:VEVENT
END:VCALENDAR